BEGIN:VCALENDAR
VERSION:2.0
PRODID:-//SKY SPORTS PARTNERS - ECPv6.15.20//NONSGML v1.0//EN
CALSCALE:GREGORIAN
METHOD:PUBLISH
X-ORIGINAL-URL:https://skysportspartners.com
X-WR-CALDESC:Events for SKY SPORTS PARTNERS
REFRESH-INTERVAL;VALUE=DURATION:PT1H
X-Robots-Tag:noindex
X-PUBLISHED-TTL:PT1H
BEGIN:VTIMEZONE
TZID:Africa/Lagos
BEGIN:STANDARD
TZOFFSETFROM:+0100
TZOFFSETTO:+0100
TZNAME:WAT
DTSTART:20210101T000000
END:STANDARD
END:VTIMEZONE
BEGIN:VEVENT
DTSTART;TZID=Africa/Lagos:20220614T080000
DTEND;TZID=Africa/Lagos:20220614T170000
DTSTAMP:20260421T035522
CREATED:20250203T095233Z
LAST-MODIFIED:20250203T095233Z
UID:4693-1655193600-1655226000@skysportspartners.com
SUMMARY:Trial Camp in Bahrain\, Age - 18 to 24
DESCRIPTION:Trial Camp in Bahrain\, Age – 18 to 24
URL:https://skysportspartners.com/event/trial-camp-in-bahrain-age-18-to-24/
LOCATION:Bahrain\, Bahrain\, Asia\, China
ATTACH;FMTTYPE=image/jpeg:https://skysportspartners.com/wp-content/uploads/2025/02/full-shot-kid-playing-with-ball-scaled.jpg
END:VEVENT
BEGIN:VEVENT
DTSTART;TZID=Africa/Lagos:20220612T090000
DTEND;TZID=Africa/Lagos:20220612T170000
DTSTAMP:20260421T035522
CREATED:20250203T093328Z
LAST-MODIFIED:20250203T093328Z
UID:4677-1655024400-1655053200@skysportspartners.com
SUMMARY:Football Trial\, Second Division Club
DESCRIPTION:Football Trial\, Second Division Club
URL:https://skysportspartners.com/event/football-trial-second-division-club/
LOCATION:Kranj\, Slovenia
ATTACH;FMTTYPE=image/jpeg:https://skysportspartners.com/wp-content/uploads/2025/02/2148767620.jpg
END:VEVENT
BEGIN:VEVENT
DTSTART;VALUE=DATE:20220603
DTEND;VALUE=DATE:20220604
DTSTAMP:20260421T035522
CREATED:20250203T094329Z
LAST-MODIFIED:20250203T094638Z
UID:4682-1654214400-1654300799@skysportspartners.com
SUMMARY:Tryout Program\, from June 3 - 16\, Age - 17 to 24
DESCRIPTION:Tryout Program\, from June 3 – 16\, Age – 17 to 24
URL:https://skysportspartners.com/event/tryout-program-from-june-3-16-age-17-to-24/
LOCATION:Palena\, Palena\, Italy
ATTACH;FMTTYPE=image/jpeg:https://skysportspartners.com/wp-content/uploads/2025/02/looking-side-young-afro-american-sporty-man-wearing-headband-wristband-holding-ball-tickets-isolated-white-background-scaled.jpg
END:VEVENT
END:VCALENDAR